Workbook

Sheet INC&EXP
D1: COUNCIL OUT TURN REPORT TO 31 MARCH 2027
A2: 101 | B2: Project, Events & Resident Support | D2: Annual | F2: APR | G2: MAY | H2: JUN | I2: JUL | J2: AUG | K2: SEP | L2: OCT | M2: NOV | N2: DEC | O2: JAN | P2: FEB | Q2: MAR | R2: TOTAL | S2: FUNDS
D3: Budget | S3: AVAILABLE
A4: 4000 | B4: Salaries | D4: 246000 | F4: 9713 | G4: 13542 | H4: =13857-1000 -> 12857 | I4: 0 | J4: 0 | K4: 0 | L4: 0 | M4: 0 | N4: 0 | O4: 0 | P4: 0 | Q4: 0 | R4: =SUM(F4:Q4) -> 36112 | S4: =D4-R4 -> 209888
A5: 4010 | B5: Office Equip Purchases | D5: 2500 | F5: 177 | G5: 243 | H5: 226 | I5: 0 | J5: 0 | K5: 0 | L5: 0 | M5: 0 | N5: 0 | O5: 0 | P5: 0 | Q5: 0 | R5: =SUM(F5:Q5) -> 646 | S5: =D5-R5 -> 1854
A6: 4011 | B6: Office Equip Lease | D6: 2000 | F6: 0 | G6: 0 | H6: 823 | I6: 0 | J6: 0 | K6: 0 | L6: 0 | M6: 0 | N6: 0 | O6: 0 | P6: 0 | Q6: 0 | R6: =SUM(F6:Q6) -> 823 | S6: =D6-R6 -> 1177
A7: 4012 | B7: Telephones | D7: 2500 | F7: 192 | G7: 189 | H7: 49 | I7: 0 | J7: 0 | K7: 0 | L7: 0 | M7: 0 | N7: 0 | O7: 0 | P7: 0 | Q7: 0 | R7: =SUM(F7:Q7) -> 430 | S7: =D7-R7 -> 2070
A8: 4014 | B8: Advertising & Publicity | D8: 250 | F8: 90 | G8: 0 | H8: 20 | I8: 0 | J8: 0 | K8: 0 | L8: 0 | M8: 0 | N8: 0 | O8: 0 | P8: 0 | Q8: 0 | R8: =SUM(F8:Q8) -> 110 | S8: =D8-R8 -> 140
A9: 4015 | B9: Insurance | D9: 12000 | F9: 11264 | G9: 0 | H9: 0 | I9: 0 | J9: 0 | K9: 0 | L9: 0 | M9: 0 | N9: 0 | O9: 0 | P9: 0 | Q9: 0 | R9: =SUM(F9:Q9) -> 11264 | S9: =D9-R9 -> 736
A10: 4016 | B10: Subscriptions & Fees | D10: 3500 | F10: 140 | G10: 0 | H10: 2151 | I10: 0 | J10: 0 | K10: 0 | L10: 0 | M10: 0 | N10: 0 | O10: 0 | P10: 0 | Q10: 0 | R10: =SUM(F10:Q10) -> 2291 | S10: =D10-R10 -> 1209
A11: 4017 | B11: Audit Fees | D11: 2200 | F11: 0 | G11: 500 | H11: 0 | I11: 0 | J11: 0 | K11: 0 | L11: 0 | M11: 0 | N11: 0 | O11: 0 | P11: 0 | Q11: 0 | R11: =SUM(F11:Q11) -> 500 | S11: =D11-R11 -> 1700
A12: 4021 | B12: Computer & Website Support | D12: 6000 | F12: 250 | G12: 660 | H12: 250 | I12: 0 | J12: 0 | K12: 0 | L12: 0 | M12: 0 | N12: 0 | O12: 0 | P12: 0 | Q12: 0 | R12: =SUM(F12:Q12) -> 1160 | S12: =D12-R12 -> 4840
A13: 4022 | B13: Staff/Councillor Training | D13: 2500 | F13: 0 | G13: 0 | H13: 770 | I13: 0 | J13: 0 | K13: 0 | L13: 0 | M13: 0 | N13: 0 | O13: 0 | P13: 0 | Q13: 0 | R13: =SUM(F13:Q13) -> 770 | S13: =D13-R13 -> 1730
A14: 4025 | B14: Financial Packages | D14: 650 | F14: 512 | G14: 0 | H14: 0 | I14: 0 | J14: 0 | K14: 0 | L14: 0 | M14: 0 | N14: 0 | O14: 0 | P14: 0 | Q14: 0 | R14: =SUM(F14:Q14) -> 512 | S14: =D14-R14 -> 138
A15: 4027 | B15: HR & H & S Professional Fees | D15: 3200 | F15: 224 | G15: 224 | H15: 224 | I15: 0 | J15: 0 | K15: 0 | L15: 0 | M15: 0 | N15: 0 | O15: 0 | P15: 0 | Q15: 0 | R15: =SUM(F15:Q15) -> 672 | S15: =D15-R15 -> 2528
A16: 4040 | B16: Legal & Professional Fees | D16: 2500 | F16: 0 | G16: 0 | H16: 0 | I16: 0 | J16: 0 | K16: 0 | L16: 0 | M16: 0 | N16: 0 | O16: 0 | P16: 0 | Q16: 0 | R16: =SUM(F16:Q16) -> 0 | S16: =D16-R16 -> 2500
A17: 4045 | B17: Bank Charges | D17: 400 | F17: 26 | G17: 22 | H17: 28 | I17: 0 | J17: 0 | K17: 0 | L17: 0 | M17: 0 | N17: 0 | O17: 0 | P17: 0 | Q17: 0 | R17: =SUM(F17:Q17) -> 76 | S17: =D17-R17 -> 324
B19: Total Admin Expenditure | D19: =SUM(D4:D17) -> 286200 | F19: =SUM(F4:F17) -> 22588 | G19: =SUM(G4:G17) -> 15380 | H19: =SUM(H4:H17) -> 17398 | I19: =SUM(I4:I17) -> 0 | J19: =SUM(J4:J17) -> 0 | K19: =SUM(K4:K17) -> 0 | L19: =SUM(L4:L17) -> 0 | M19: =SUM(M4:M17) -> 0 | ... P19: =SUM(P4:P17) -> 0 | Q19: =SUM(Q4:Q18) -> 0 | R19: =SUM(F19:Q19) -> 55366 | S19: =D19-R19 -> 230834
A21: 1176 | B21: Precept | D21: 512530 | F21: 512530 | G21: 0 | H21: 0 | I21: 0 | J21: 0 | K21: 0 | L21: 0 | M21: 0 | N21: 0 | O21: 0 | P21: 0 | Q21: 0 | R21: =SUM(F21:Q21) -> 512530 | S21: =D21-R21 -> 0
A22: 1177 | B22: CIL | D22: 0 | F22: 0 | G22: 0 | H22: 0 | I22: 0 | J22: 0 | K22: 0 | L22: 0 | M22: 0 | N22: 0 | O22: 0 | P22: 0 | Q22: 0 | R22: =SUM(F22:Q22) -> 0 | S22: =D22-R22 -> 0
A23: 1178 | B23: Council Tax Grant Income | D23: 18043 | F23: 18043 | G23: 0 | H23: 0 | I23: 0 | J23: 0 | K23: 0 | L23: 0 | M23: 0 | N23: 0 | O23: 0 | P23: 0 | Q23: 0 | R23: =SUM(F23:Q23) -> 18043 | S23: =D23-R23 -> 0
A24: 1180 | B24: Public Sector Fund Interest | D24: 25000 | F24: 1617 | G24: 2024 | H24: 2847 | I24: 0 | J24: 0 | K24: 0 | L24: 0 | M24: 0 | N24: 0 | O24: 0 | P24: 0 | Q24: 0 | R24: =SUM(F24:Q24) -> 6488 | S24: =D24-R24 -> 18512
A25: 1195 | B25: Room Hire | D25: 200 | F25: 0 | G25: 0 | H25: 0 | I25: 0 | J25: 0 | K25: 0 | L25: 0 | M25: 0 | N25: 0 | O25: 0 | P25: 0 | Q25: 0 | R25: =SUM(F25:Q25) -> 0 | S25: =D25-R25 -> 200
A26: 1999 | B26: Miscellaneous Income | D26: 0 | F26: 135 | G26: 0 | H26: 22 | I26: 0 | J26: 0 | K26: 0 | L26: 0 | M26: 0 | N26: 0 | O26: 0 | P26: 0 | Q26: 0 | R26: =SUM(F26:Q26) -> 157 | S26: =D26-R26 -> -157
B27: Total Admin Income | D27: =SUM(D21:D26) -> 555773 | F27: =SUM(F21:F27) -> 532325 | G27: =SUM(G24:G26) -> 2024 | H27: =SUM(H24:H26) -> 2869 | I27: =SUM(I24:I26) -> 0 | J27: =SUM(J24:J26) -> 0 | K27: =SUM(K24:K26) -> 0 | L27: =SUM(L24:L26) -> 0 | M27: =SUM(M24:M26) -> 0 | N27: =SUM(N24:N26) -> 0 | ... Q27: =SUM(Q24:Q26) -> 0 | R27: =SUM(F27:Q27) -> 532325 | S27: =D27-R27 -> 23383
A30: 102 | B30: ASSET & HERITAGE MANAGEMENT
A31: 4026 | B31: ICT/Digital Support & Equipment | D31: 6000 | F31: 454 | G31: 454 | H31: 454 | I31: 0 | J31: 0 | K31: 0 | L31: 0 | M31: 0 | N31: 0 | O31: 0 | P31: 0 | Q31: 0 | R31: =SUM(F31:Q31) -> 1362 | S31: =D31-R31 -> 4638
A32: 4041 | B32: Bench Repairs/New Benches | D32: 500 | F32: 0 | G32: 0 | H32: 0 | I32: 0 | J32: 0 | K32: 0 | L32: 0 | M32: 0 | N32: 0 | O32: 0 | P32: 0 | Q32: 0 | R32: =SUM(F32:Q32) -> 0 | S32: =D32-R32 -> 500
A33: 4050 | B33: General Maintenance | D33: 30000 | F33: 0 | G33: 0 | H33: 0 | I33: 0 | J33: 0 | K33: 0 | L33: 0 | M33: 0 | N33: 0 | O33: 0 | P33: 0 | Q33: 0 | R33: =SUM(F33:Q33) -> 0 | S33: =D33-R33 -> 30000
A34: 4052 | B34: Toilet/Barrier Maintenance | D34: 3000 | F34: 0 | G34: 0 | H34: 0 | I34: 0 | J34: 0 | K34: 0 | L34: 0 | M34: 0 | N34: 0 | O34: 0 | P34: 0 | Q34: 0 | R34: =SUM(F34:Q34) -> 0 | S34: =D34-R34 -> 3000
A35: 4053 | B35: Toilet Staffing | D35: 45000 | F35: 2914 | G35: 3673 | H35: 4060 | I35: 0 | J35: 0 | K35: 0 | L35: 0 | M35: 0 | N35: 0 | O35: 0 | P35: 0 | Q35: 0 | R35: =SUM(F35:Q35) -> 10647 | S35: =D35-R35 -> 34353
A36: 4054 | B36: Internal Asset Inspections & Work | D36: 5000 | F36: 0 | G36: 307 | H36: 38 | I36: 0 | J36: 0 | K36: 0 | L36: 0 | M36: 0 | N36: 0 | O36: 0 | P36: 0 | Q36: 0 | R36: =SUM(F36:Q36) -> 345 | S36: =D36-R36 -> 4655
A37: 4056 | B37: Jubilee Clock Mtce & Inverter Charger | D37: 400 | F37: 0 | G37: 0 | H37: 0 | I37: 0 | J37: 0 | K37: 0 | L37: 0 | M37: 0 | N37: 0 | O37: 0 | P37: 0 | Q37: 0 | R37: =SUM(F37:Q37) -> 0 | S37: =D37-R37 -> 400
A38: 4057 | B38: Toilet Consumables | D38: 4000 | F38: 127 | G38: 506 | H38: 212 | I38: 0 | J38: 0 | K38: 0 | L38: 0 | M38: 0 | N38: 0 | O38: 0 | P38: 0 | Q38: 0 | R38: =SUM(F38:Q38) -> 845 | S38: =D38-R38 -> 3155
A39: 4059 | B39: Toilet Utilities | D39: 12000 | F39: 658 | G39: 1221 | H39: 980 | I39: 0 | J39: 0 | K39: 0 | L39: 0 | M39: 0 | N39: 0 | O39: 0 | P39: 0 | Q39: 0 | R39: =SUM(F39:Q39) -> 2859 | S39: =D39-R39 -> 9141
A40: 4171 | B40: Navvies Monument Maintenance | D40: 500 | F40: 0 | G40: 0 | H40: 0 | I40: 0 | J40: 0 | K40: 0 | L40: 0 | M40: 0 | N40: 0 | O40: 0 | P40: 0 | Q40: 0 | R40: =SUM(F40:Q40) -> 0 | S40: =D40-R40 -> 500
A41: 4188 | B41: PWLB Interest-Otley Welfare | D41: 10000 | F41: 0 | G41: 0 | H41: 4906 | I41: 0 | J41: 0 | K41: 0 | L41: 0 | M41: 0 | N41: 0 | O41: 0 | P41: 0 | Q41: 0 | R41: =SUM(F41:Q41) -> 4906 | S41: =D41-R41 -> 5094
A42: 4189 | B42: Investing In Otley Reserve | D42: 20000 | F42: 0 | G42: 20000 | H42: 0 | I42: 0 | J42: 0 | K42: 0 | L42: 0 | M42: 0 | N42: 0 | O42: 0 | P42: 0 | Q42: 0 | R42: =SUM(F42:Q42) -> 20000 | S42: =D42-R42 -> 0
B43: Total A.M. Expenditure | D43: =SUM(D31:D42) -> 136400 | F43: =SUM(F31:F43) -> 4153 | G43: =SUM(G31:G42) -> 26161 | H43: =SUM(H31:H42) -> 10650 | I43: =SUM(I31:I42) -> 0 | J43: =SUM(J31:J42) -> 0 | K43: =SUM(K31:K42) -> 0 | L43: =SUM(L31:L42) -> 0 | M43: =SUM(M31:M42) -> 0 | N43: =SUM(N31:N42) -> 0 | ... R43: =SUM(R31:R42) -> 40964 | S43: =D43-R43 -> 95436
A45: 1000 | B45: Toilet Income | D45: 13000 | F45: 1061 | G45: 1538 | H45: 960 | I45: 0 | J45: 0 | K45: 0 | L45: 0 | M45: 0 | N45: 0 | O45: 0 | P45: 0 | Q45: 0 | R45: =SUM(F45:Q45) -> 3559 | S45: =D45-R45 -> 9441
...

Sheet Analysis
H1: ACCOUNTS 2019/2020 OUTTURN MONITORING REPORT SUMMARY
H2: ACTUAL INCOME/EXPENDITURE
A4: INCOME | D4: Annual | F4: APR | G4: MAY | H4: JUN | I4: JUL | J4: AUG | K4: SEP | L4: OCT | M4: NOV | N4: DEC | O4: JAN | P4: FEB | Q4: MAR | R4: TOTAL | S4: Variance to Budget
D5: Budget | S5: minus = over
A7: PRECEPT/ROOM HIRE/MISC | D7: ='INC&EXP'!D31 -> 6000 | F7: ='INC&EXP'!F31 -> 454 | G7: ='INC&EXP'!G31 -> 454 | H7: ='INC&EXP'!H31 -> 454 | I7: ='INC&EXP'!I31 -> 0 | J7: ='INC&EXP'!J31 -> 0 | K7: ='INC&EXP'!K31 -> 0 | L7: ='INC&EXP'!L31 -> 0 | M7: ='INC&EXP'!M31 -> 0 | ... Q7: ='INC&EXP'!Q31 -> 0 | R7: =SUM(F7:Q7) -> 1362 | S7: =D7-R7 -> 4638
A9: TOILETS INCOME | D9: ='INC&EXP'!D51 -> 1500 | F9: ='INC&EXP'!F51 -> 0 | G9: ='INC&EXP'!G51 -> 0 | H9: ='INC&EXP'!H51 -> 150 | I9: ='INC&EXP'!I51 -> 0 | J9: ='INC&EXP'!J51 -> 0 | K9: ='INC&EXP'!K51 -> 0 | L9: ='INC&EXP'!L51 -> 0 | M9: ='INC&EXP'!M51 -> 0 | ... Q9: ='INC&EXP'!Q51 -> 0 | R9: =SUM(F9:Q9) -> 150 | S9: =D9-R9 -> 1350
A11: OTLEY BID/OTP TOURISM/CLEANSING | D11: =SUM('INC&EXP'!D100) -> 200
A12: RESERVE TRANSFER | D12: 0 | R12: =SUM(F12:Q12) -> 0 | S12: 0
A14: TOTAL INCOME | D14: =SUM(D7:D11) -> 7700 | F14: =SUM(F7:F11) -> 454 | G14: =SUM(G7:G11) -> 454 | H14: =SUM(H7:H11) -> 604 | I14: =SUM(I7:I11) -> 0 | J14: =SUM(J7:J11) -> 0 | K14: =SUM(K7:K11) -> 0 | L14: =SUM(L7:L11) -> 0 | M14: =SUM(M7:M12) -> 0 | N14: =SUM(N7:N11) -> 0 | O14: =SUM(O7:O11) -> 0 | P14: =SUM(P7:P12) -> 0 | Q14: =SUM(Q7:Q11) -> 0 | R14: =SUM(F14:Q14) -> 1512 | S14: =SUM(S7:S12) -> 5988
A20: EXPENDITURE | D20: Annual | F20: APR | G20: MAY | H20: JUN | I20: JUL | J20: AUG | K20: SEP | L20: OCT | M20: NOV | N20: DEC | O20: JAN | P20: FEB | Q20: MAR | R20: TOTAL | S20: Variance to Budget
D21: Budget | S21: minus = over
A23: ADMINISTRATION | D23: ='INC&EXP'!B23:V23 -> 18043 | E23: ='[1]INC&EXP'!C23:V23 -> 0 | F23: ='INC&EXP'!D23:X23 -> 18043 | G23: ='INC&EXP'!E23:Y23 -> 0 | H23: ='INC&EXP'!F23:Z23 -> 0 | I23: ='INC&EXP'!G23:AA23 -> 0 | J23: ='INC&EXP'!H23:AB23 -> 0 | K23: ='INC&EXP'!I23:AC23 -> 0 | L23: ='INC&EXP'!J23:AD23 -> 0 | M23: ='INC&EXP'!K23:AE23 -> 0 | ... R23: ='INC&EXP'!P23:AJ23 -> 18043 | S23: =D23-R23 -> 0
A25: ASSET MANAGEMENT | D25: ='INC&EXP'!D49 -> 0 | E25: ='[1]INC&EXP'!E44 -> 0 | F25: ='INC&EXP'!F47 -> 0 | G25: ='INC&EXP'!G47 -> 0 | H25: ='INC&EXP'!H47 -> 0 | I25: ='INC&EXP'!I47 -> 0 | J25: ='INC&EXP'!J47 -> 0 | K25: ='INC&EXP'!K47 -> 0 | L25: ='INC&EXP'!L47 -> 0 | M25: ='INC&EXP'!M47 -> 0 | ... R25: ='INC&EXP'!R47 -> 0 | S25: =D25-R25 -> 0
A27: EVENTS & MAYOR | D27: ='INC&EXP'!D64:E64 -> 7000 | E27: ='[1]INC&EXP'!E60:F60 -> 0 | F27: ='INC&EXP'!F64:G64 -> 0 | G27: ='INC&EXP'!G64:H64 -> 329 | H27: ='INC&EXP'!H64:I64 -> 211 | I27: ='INC&EXP'!I64:J64 -> 0 | J27: ='INC&EXP'!J64:K64 -> 0 | K27: ='INC&EXP'!K64:L64 -> 0 | L27: ='INC&EXP'!L64:M64 -> 0 | M27: ='INC&EXP'!M64:N64 -> 0 | ... R27: ='INC&EXP'!R64:S64 -> 540 | S27: =D27-R27 -> 6460
A29: OFFICE RESOURCE CENTRE | D29: ='INC&EXP'!D79 -> 3700 | E29: ='[1]INC&EXP'!E70 -> 0 | F29: ='INC&EXP'!F79 -> 0 | G29: ='INC&EXP'!G79 -> 0 | H29: ='INC&EXP'!H79 -> 0 | I29: ='INC&EXP'!I79 -> 0 | J29: ='INC&EXP'!J79 -> 0 | K29: ='INC&EXP'!K79 -> 0 | L29: ='INC&EXP'!L79 -> 0 | M29: ='INC&EXP'!M79 -> 0 | ... R29: ='INC&EXP'!R79 -> 0 | S29: =D29-R29 -> 3700
A31: ENVIRONMENTAL & SUSTAINABILITY | D31: ='INC&EXP'!D94 -> 0 | E31: ='[1]INC&EXP'!E79 -> 0 | F31: ='INC&EXP'!F94 -> 0 | G31: ='INC&EXP'!G94 -> 0 | H31: ='INC&EXP'!H94 -> 0 | I31: ='INC&EXP'!I94 -> 0 | J31: ='INC&EXP'!J94 -> 0 | K31: ='INC&EXP'!K94 -> 0 | L31: ='INC&EXP'!L94 -> 0 | M31: ='INC&EXP'!M89 -> 0 | N31: ='INC&EXP'!N89 -> 0 | O31: ='INC&EXP'!O89 -> 0 | P31: ='INC&EXP'!P89 -> 0 | Q31: ='INC&EXP'!Q89 -> 0 | R31: ='INC&EXP'!R94 -> 0 | S31: =D31-R31 -> 0
A33: COMMUNITY & DEVELOPMENT | D33: ='INC&EXP'!D44 -> 0 | E33: ='[1]INC&EXP'!E93 -> 0 | F33: ='INC&EXP'!F110 -> 0 | G33: ='INC&EXP'!G110 -> 0 | H33: ='INC&EXP'!H44 -> 0 | I33: ='INC&EXP'!I110 -> 0 | J33: ='INC&EXP'!J110 -> 0 | K33: ='INC&EXP'!K44 -> 0 | L33: ='INC&EXP'!L110 -> 0 | M33: ='INC&EXP'!M110 -> 0 | N33: ='INC&EXP'!N110 -> 0 | O33: ='INC&EXP'!O110 -> 0 | P33: ='INC&EXP'!P110 -> 0 | Q33: ='INC&EXP'!Q110 -> 0 | R33: ='INC&EXP'!R44 -> 0 | S33: =D33-R33 -> 0
A35: TRADE & TOURISM | D35: ='INC&EXP'!D129 -> 0 | E35: ='[1]INC&EXP'!E102 -> 0 | F35: ='INC&EXP'!F129 -> 0 | G35: ='INC&EXP'!G129 -> 0 | H35: ='INC&EXP'!H129 -> 0 | I35: ='INC&EXP'!I129 -> 0 | J35: ='INC&EXP'!J129 -> 0 | K35: ='INC&EXP'!K129 -> 0 | L35: ='INC&EXP'!L129 -> 0 | M35: ='INC&EXP'!M129 -> 0 | ... R35: ='INC&EXP'!R129 -> 0 | S35: =D35-R35 -> 0
A37: TOTAL EXPENDITURE | D37: =SUM(D23:D36) -> 28743 | F37: =SUM(F23:F36) -> 18043 | G37: =SUM(G23:G36) -> 329 | H37: =SUM(H23:H36) -> 211 | I37: =SUM(I23:I36) -> 0 | J37: =SUM(J23:J36) -> 0 | K37: =SUM(K23:K36) -> 0 | L37: =SUM(L23:L36) -> 0 | M37: =SUM(M23:M36) -> 0 | ... S37: =SUM(S23:S36) -> 10160
